BEGIN:VCALENDAR
PRODID:-//kirchenweb.ch gmbh//veranstaltungsausgabe v2.0//DE
VERSION:2.0
METHOD:PUBLISH
BEGIN:VEVENT
DTSTART:20251116T090000Z
DTEND:20251116T100000Z
LOCATION:Deutsche Kirche\, Deutsche Kirchgasse\, 3280 Murten
TRANSP:OPAQUE
SEQUENCE:0
UID:9586-veranstaltung@kirche-murten.ch
DTSTAMP:20251008T064237Z
DESCRIPTION:Anschliessend Kirchenkaffee\n\nKontakt \nPfarrer Andri Kober\,
  Deutsche Kirchgasse 16\, 3280 Murten\, andri.kober@kirche-murten.ch\, 026
  672 37 03\n\nKontakt: claudia.rickli@kirche-murten.ch\n\nWeitere Infos:
  https://www.kirche-murten.ch/veranstaltung/9586
SUMMARY:Gottesdienst
PRIORITY:5
X-MICROSOFT-CDO-IMPORTANCE:1
CLASS:PUBLIC
END:VEVENT
END:VCALENDAR
