BEGIN:VCALENDAR
PRODID:-//kirchenweb.ch gmbh//veranstaltungsausgabe v2.0//DE
VERSION:2.0
METHOD:PUBLISH
BEGIN:VEVENT
DTSTART:20250311T160000Z
DTEND:20250311T180000Z
LOCATION:Französische Kirche\, Französische Kirchgasse\, 3280 Murten
TRANSP:OPAQUE
SEQUENCE:0
UID:9484-veranstaltung@kirche-murten.ch
DTSTAMP:20250212T125158Z
DESCRIPTION:Kontakt: andri.kober@kirche-murten.ch\n\nWeitere Infos:
  https://www.kirche-murten.ch/veranstaltung/9484
SUMMARY:L'heure bleue du Pasteur
PRIORITY:5
X-MICROSOFT-CDO-IMPORTANCE:1
CLASS:PUBLIC
END:VEVENT
END:VCALENDAR
