BEGIN:VCALENDAR
PRODID:-//kirchenweb.ch gmbh//veranstaltungsausgabe v2.0//DE
VERSION:2.0
METHOD:PUBLISH
BEGIN:VEVENT
DTSTART:20270402T120000Z
DTEND:20270402T140000Z
LOCATION:Cinéma Murten \, \,
TRANSP:OPAQUE
SEQUENCE:0
UID:11694-veranstaltung@kirche-murten.ch
DTSTAMP:20260401T111828Z
DESCRIPTION:Kontakt: claudia.rickli@kirche-murten.ch\n\nWeitere Infos:
  https://www.kirche-murten.ch/veranstaltung/11694
SUMMARY:Seniorenkino anschliessend Kaffee und Kuchen
PRIORITY:5
X-MICROSOFT-CDO-IMPORTANCE:1
CLASS:PUBLIC
END:VEVENT
END:VCALENDAR
