BEGIN:VCALENDAR
PRODID:-//kirchenweb.ch gmbh//veranstaltungsausgabe v2.0//DE
VERSION:2.0
METHOD:PUBLISH
BEGIN:VEVENT
DTSTART:20261030T130000Z
DTEND:20261030T150000Z
LOCATION:Cinéma Murten \, \,
TRANSP:OPAQUE
SEQUENCE:0
UID:11688-veranstaltung@kirche-murten.ch
DTSTAMP:20260401T090132Z
DESCRIPTION:Kontakt: claudia.rickli@kirche-murten.ch\n\nWeitere Infos:
  https://www.kirche-murten.ch/veranstaltung/11688
SUMMARY:Seniorenkino anschliessend Kaffee und Kuchen
PRIORITY:5
X-MICROSOFT-CDO-IMPORTANCE:1
CLASS:PUBLIC
END:VEVENT
END:VCALENDAR
