BEGIN:VCALENDAR
PRODID:-//kirchenweb.ch gmbh//veranstaltungsausgabe v2.0//DE
VERSION:2.0
METHOD:PUBLISH
BEGIN:VEVENT
DTSTART:20260527T081500Z
DTEND:20260527T090000Z
LOCATION:Saal Kirchgemeindehaus im OG\, Deutsche Kirchgasse 20\, 3280
  Murten
TRANSP:OPAQUE
SEQUENCE:0
UID:11489-veranstaltung@kirche-murten.ch
DTSTAMP:20260205T143703Z
DESCRIPTION:Kontakt: claudia.rickli@kirche-murten.ch\n\nWeitere Infos:
  https://www.kirche-murten.ch/veranstaltung/11489
SUMMARY:Musikalische Krabbelgruppe
PRIORITY:5
X-MICROSOFT-CDO-IMPORTANCE:1
CLASS:PUBLIC
END:VEVENT
END:VCALENDAR
