BEGIN:VCALENDAR
PRODID:-//kirchenweb.ch gmbh//veranstaltungsausgabe v2.0//DE
VERSION:2.0
METHOD:PUBLISH
BEGIN:VEVENT
DTSTART:20260610T080000Z
DTEND:20260610T083000Z
LOCATION:Saal Kirchgemeindehaus im OG\, Deutsche Kirchgasse 20\, 3280
  Murten
TRANSP:OPAQUE
SEQUENCE:0
UID:11477-veranstaltung@kirche-murten.ch
DTSTAMP:20260205T140713Z
DESCRIPTION:Kontakt: Pfrn. Antonia Bartilla\n\nWeitere Infos:
  https://www.kirche-murten.ch/veranstaltung/11477
SUMMARY:Atempause mit Kinderhüte - Meditation\, Atemübungen\, Gymnastik
  für Eltern
PRIORITY:5
X-MICROSOFT-CDO-IMPORTANCE:1
CLASS:PUBLIC
END:VEVENT
END:VCALENDAR
