BEGIN:VCALENDAR
PRODID:-//kirchenweb.ch gmbh//veranstaltungsausgabe v2.0//DE
VERSION:2.0
METHOD:PUBLISH
BEGIN:VEVENT
DTSTART:20260920T080000Z
DTEND:20260920T090000Z
LOCATION:Deutsche Kirche\, Deutsche Kirchgasse\, 3280 Murten
TRANSP:OPAQUE
SEQUENCE:0
UID:11413-veranstaltung@kirche-murten.ch
DTSTAMP:20260408T135821Z
DESCRIPTION:Musik: Kirchenchor Murten und Cäcilien-Chor\n\nAnschliessend
  Apéro  \n\nKontakt\nPfarrer Markus Vögtli\, Deutsche Kirchgasse 16\,
  3280 Murten\, markus.voegtli@kirche-murten.ch\, 026 672 37 02\n\nKontakt:
  claudia.rickli@kirche-murten.ch\n\nWeitere Infos:
  https://www.kirche-murten.ch/veranstaltung/11413
SUMMARY:Ökum. Gottesdienst zum Bettag
PRIORITY:5
X-MICROSOFT-CDO-IMPORTANCE:1
CLASS:PUBLIC
END:VEVENT
END:VCALENDAR
