BEGIN:VCALENDAR
PRODID:-//kirchenweb.ch gmbh//veranstaltungsausgabe v2.0//DE
VERSION:2.0
METHOD:PUBLISH
BEGIN:VEVENT
DTSTART:20260701T070000Z
DTEND:20260701T090000Z
LOCATION:Kirchgemeindehaus Meyriez\, Chemin du Village 6\, \,
TRANSP:OPAQUE
SEQUENCE:0
UID:11291-veranstaltung@kirche-murten.ch
DTSTAMP:20260109T143511Z
DESCRIPTION:Kontakt: Pfrn. Antonia Bartilla\n\nWeitere Infos:
  https://www.kirche-murten.ch/veranstaltung/11291
SUMMARY:Krabbel-Treff im KGH Meyriez
PRIORITY:5
X-MICROSOFT-CDO-IMPORTANCE:1
CLASS:PUBLIC
END:VEVENT
END:VCALENDAR
