BEGIN:VCALENDAR
PRODID:-//kirchenweb.ch gmbh//veranstaltungsausgabe v2.0//DE
VERSION:2.0
METHOD:PUBLISH
BEGIN:VEVENT
DTSTART:20261224T213000Z
DTEND:20261224T223000Z
LOCATION:Deutsche Kirche\, Deutsche Kirchgasse\, 3280 Murten
TRANSP:OPAQUE
SEQUENCE:0
UID:11232-veranstaltung@kirche-murten.ch
DTSTAMP:20251217T152508Z
DESCRIPTION:Pfr. Markus Vögtli \n\nKontakt:
  claudia.rickli@kirche-murten.ch\n\nWeitere Infos:
  https://www.kirche-murten.ch/veranstaltung/11232
SUMMARY:Christnachtfeier
PRIORITY:5
X-MICROSOFT-CDO-IMPORTANCE:1
CLASS:PUBLIC
END:VEVENT
END:VCALENDAR
