BEGIN:VCALENDAR
PRODID:-//kirchenweb.ch gmbh//veranstaltungsausgabe v2.0//DE
VERSION:2.0
METHOD:PUBLISH
BEGIN:VEVENT
DTSTART:20261225T183000Z
DTEND:20261225T193000Z
LOCATION:Schlosskirche Münchenwiler\, Kühergasse 1\, 1797 Münchenwiler
TRANSP:OPAQUE
SEQUENCE:0
UID:11230-veranstaltung@kirche-murten.ch
DTSTAMP:20251217T152219Z
DESCRIPTION:Mit Abendmahl \n\nPfr. Andri Kober \n\nKontakt:
  claudia.rickli@kirche-murten.ch\n\nWeitere Infos:
  https://www.kirche-murten.ch/veranstaltung/11230
SUMMARY:Weihnachtsgottesdienst in der Schlosskirche
PRIORITY:5
X-MICROSOFT-CDO-IMPORTANCE:1
CLASS:PUBLIC
END:VEVENT
END:VCALENDAR
