BEGIN:VCALENDAR
PRODID:-//kirchenweb.ch gmbh//veranstaltungsausgabe v2.0//DE
VERSION:2.0
METHOD:PUBLISH
BEGIN:VEVENT
DTSTART:20260510T080000Z
DTEND:20260510T090000Z
LOCATION:Schlosskirche Münchenwiler\, Kühergasse 1\, 1797 Münchenwiler
TRANSP:OPAQUE
SEQUENCE:0
UID:11135-veranstaltung@kirche-murten.ch
DTSTAMP:20260224T073313Z
DESCRIPTION:Anschliessend Apéro \n\nKontakt\nPfarrer Markus Vögtli\,
  Deutsche Kirchgasse 16\, 3280 Murten\, markus.voegtli@kirche-murten.ch\,
  026 672 37 02\n\nKontakt: Pfr. Markus Vögtli\n\nWeitere Infos:
  https://www.kirche-murten.ch/veranstaltung/11135
SUMMARY:Gottesdienst mit KUW in der Schlosskirche Münchenwiler
PRIORITY:5
X-MICROSOFT-CDO-IMPORTANCE:1
CLASS:PUBLIC
END:VEVENT
END:VCALENDAR
