BEGIN:VCALENDAR
PRODID:-//kirchenweb.ch gmbh//veranstaltungsausgabe v2.0//DE
VERSION:2.0
METHOD:PUBLISH
BEGIN:VEVENT
DTSTART:20260802T150000Z
DTEND:20260802T160000Z
LOCATION:Französische Kirche\, Französische Kirchgasse\, 3280 Murten
TRANSP:OPAQUE
SEQUENCE:0
UID:11090-veranstaltung@kirche-murten.ch
DTSTAMP:20260108T133751Z
DESCRIPTION:Diacre Francesca Farrow\, A Vesin 29\, 1483 Vesin\,
  francesca.farrow@kirche-murten.ch\, 076 490 68 35\n\n\n\nKontakt:
  claudia.rickli@kirche-murten.ch\n\nWeitere Infos:
  https://www.kirche-murten.ch/veranstaltung/11090
SUMMARY:Culte; église française
PRIORITY:5
X-MICROSOFT-CDO-IMPORTANCE:1
CLASS:PUBLIC
END:VEVENT
END:VCALENDAR
