BEGIN:VCALENDAR
PRODID:-//kirchenweb.ch gmbh//veranstaltungsausgabe v2.0//DE
VERSION:2.0
METHOD:PUBLISH
BEGIN:VEVENT
DTSTART:20260726T080000Z
DTEND:20260726T090000Z
LOCATION:Französische Kirche\, Französische Kirchgasse\, 3280 Murten
TRANSP:OPAQUE
SEQUENCE:0
UID:11060-veranstaltung@kirche-murten.ch
DTSTAMP:20260224T080355Z
DESCRIPTION:Kontakt\nPfarrerin Antonia Bartilla\, Deutsche Kirchgasse 16\,
  3280 Murten\, antonia.bartilla@kirche-murten.ch\, 026 672 37 01\n\n\n\n
 \nKontakt: claudia.rickli@kirche-murten.ch\n\nWeitere Infos:
  https://www.kirche-murten.ch/veranstaltung/11060
SUMMARY:Gottesdienst mit Abendmahl
PRIORITY:5
X-MICROSOFT-CDO-IMPORTANCE:1
CLASS:PUBLIC
END:VEVENT
END:VCALENDAR
