BEGIN:VCALENDAR
PRODID:-//kirchenweb.ch gmbh//veranstaltungsausgabe v2.0//DE
VERSION:2.0
METHOD:PUBLISH
BEGIN:VEVENT
DTSTART:20251216T143000Z
DTEND:20251216T160000Z
LOCATION:Saal Kirchgemeindehaus im OG\, \,
TRANSP:OPAQUE
SEQUENCE:0
UID:10989-veranstaltung@kirche-murten.ch
DTSTAMP:20251015T134724Z
DESCRIPTION:Kontakt: antonia.bartilla@kirche-murten.ch\n\nWeitere Infos:
  https://www.kirche-murten.ch/veranstaltung/10989
SUMMARY:Kinderchor-Krippenspiel-Probe
PRIORITY:5
X-MICROSOFT-CDO-IMPORTANCE:1
CLASS:PUBLIC
END:VEVENT
END:VCALENDAR
