BEGIN:VCALENDAR
PRODID:-//kirchenweb.ch gmbh//veranstaltungsausgabe v2.0//DE
VERSION:2.0
METHOD:PUBLISH
BEGIN:VEVENT
DTSTART:20260514T080000Z
DTEND:20260514T090000Z
LOCATION:Sportplatz Muntelier\, \,
TRANSP:OPAQUE
SEQUENCE:0
UID:10651-veranstaltung@kirche-murten.ch
DTSTAMP:20260224T073705Z
DESCRIPTION:Bei Schlechtwetter in der Französischen Kirche \n\nKontakt
 \nPfarrerin Antonia Bartilla\, Deutsche Kirchgasse 16\, 3280 Murten\,
  antonia.bartilla@kirche-murten.ch\, 026 672 37 01\n\nKontakt:
  claudia.rickli@kirche-murten.ch\n\nWeitere Infos:
  https://www.kirche-murten.ch/veranstaltung/10651
SUMMARY:Auffahrtsgottesdienst am See in Muntelier
PRIORITY:5
X-MICROSOFT-CDO-IMPORTANCE:1
CLASS:PUBLIC
END:VEVENT
END:VCALENDAR
