BEGIN:VCALENDAR
PRODID:-//kirchenweb.ch gmbh//veranstaltungsausgabe v2.0//DE
VERSION:2.0
METHOD:PUBLISH
BEGIN:VEVENT
DTSTART:20260710T100000Z
DTEND:20260710T110000Z
LOCATION:Saal Kirchgemeindehaus im OG sowie Küche \, Deutsche Kirchgasse
  20\, 3280 Murten
TRANSP:OPAQUE
SEQUENCE:0
UID:10624-veranstaltung@kirche-murten.ch
DTSTAMP:20251204T151241Z
DESCRIPTION:Zäme Zmittag\n\nEin motiviertes Team\nkocht gerne für Gäste
  ab 65\n\nHauptgericht\,\nDessert und Kaffee\nFr. 10.–\n\nAbholdienst
  möglich \nAnmeldung obligatorisch immmer bis spätestens am Dienstag vor
  dem Essen. \n\nan Reformierte Kirchgemeinde Murten\,\nTelefon 026 672 37
  00\, sekretariat@kirche-murten.ch\n\n\nKontakt:
  claudia.rickli@kirche-murten.ch\n\nWeitere Infos:
  https://www.kirche-murten.ch/veranstaltung/10624
SUMMARY:Zäme Zmittag im ref. Kirchgemeindehaus
PRIORITY:5
X-MICROSOFT-CDO-IMPORTANCE:1
CLASS:PUBLIC
END:VEVENT
END:VCALENDAR
