BEGIN:VCALENDAR
PRODID:-//kirchenweb.ch gmbh//veranstaltungsausgabe v2.0//DE
VERSION:2.0
METHOD:PUBLISH
BEGIN:VEVENT
DTSTART:20260508T100000Z
DTEND:20260508T110000Z
LOCATION:Ref. Kirchgemeindehaus\, Deutsche Kirchgasse 20\, \,
TRANSP:OPAQUE
SEQUENCE:0
UID:10622-veranstaltung@kirche-murten.ch
DTSTAMP:20251204T150846Z
DESCRIPTION:Zäme Zmittag\n\nEin motiviertes Team\nkocht gerne für Gäste
  ab 65\n\nHauptgericht\,\nDessert und Kaffee\nFr. 10.–\n\nAbholdienst
  möglich \nAnmeldung obligatorisch immmer bis spätestens am Dienstag vor
  dem Essen. \n\nan Reformierte Kirchgemeinde Murten\,\nTelefon 026 672 37
  00\, sekretariat@kirche-murten.ch\n\n\nKontakt:
  claudia.rickli@kirche-murten.ch\n\nWeitere Infos:
  https://www.kirche-murten.ch/veranstaltung/10622
SUMMARY:Zäme Zmittag im ref. Kirchgemeindehaus
PRIORITY:5
X-MICROSOFT-CDO-IMPORTANCE:1
CLASS:PUBLIC
END:VEVENT
END:VCALENDAR
