BEGIN:VCALENDAR
PRODID:-//kirchenweb.ch gmbh//veranstaltungsausgabe v2.0//DE
VERSION:2.0
METHOD:PUBLISH
BEGIN:VEVENT
DTSTART:20250916T170000Z
DTEND:20250916T180000Z
LOCATION:Saal Kirchgemeindehaus im OG\, Deutsche Kirchgasse 20\, 3280
  Murten
TRANSP:OPAQUE
SEQUENCE:0
UID:10612-veranstaltung@kirche-murten.ch
DTSTAMP:20250904T105627Z
DESCRIPTION:Kontakt: Pfrn. Antonia Bartilla\n\nWeitere Infos:
  https://www.kirche-murten.ch/veranstaltung/10612
SUMMARY:Elternabend 7H+8H
PRIORITY:5
X-MICROSOFT-CDO-IMPORTANCE:1
CLASS:PUBLIC
END:VEVENT
END:VCALENDAR
